BEGIN:VCALENDAR
VERSION:2.0
PRODID:-//Napton Golf Society - ECPv6.15.20//NONSGML v1.0//EN
CALSCALE:GREGORIAN
METHOD:PUBLISH
X-ORIGINAL-URL:https://naptongolfsociety.co.uk
X-WR-CALDESC:Events for Napton Golf Society
REFRESH-INTERVAL;VALUE=DURATION:PT1H
X-Robots-Tag:noindex
X-PUBLISHED-TTL:PT1H
BEGIN:VTIMEZONE
TZID:Europe/London
BEGIN:DAYLIGHT
TZOFFSETFROM:+0000
TZOFFSETTO:+0100
TZNAME:BST
DTSTART:20220327T010000
END:DAYLIGHT
BEGIN:STANDARD
TZOFFSETFROM:+0100
TZOFFSETTO:+0000
TZNAME:GMT
DTSTART:20221030T010000
END:STANDARD
BEGIN:DAYLIGHT
TZOFFSETFROM:+0000
TZOFFSETTO:+0100
TZNAME:BST
DTSTART:20230326T010000
END:DAYLIGHT
BEGIN:STANDARD
TZOFFSETFROM:+0100
TZOFFSETTO:+0000
TZNAME:GMT
DTSTART:20231029T010000
END:STANDARD
BEGIN:DAYLIGHT
TZOFFSETFROM:+0000
TZOFFSETTO:+0100
TZNAME:BST
DTSTART:20240331T010000
END:DAYLIGHT
BEGIN:STANDARD
TZOFFSETFROM:+0100
TZOFFSETTO:+0000
TZNAME:GMT
DTSTART:20241027T010000
END:STANDARD
END:VTIMEZONE
BEGIN:VEVENT
DTSTART;TZID=Europe/London:20231011T000000
DTEND;TZID=Europe/London:20231011T235959
DTSTAMP:20260420T071245
CREATED:20231010T105811Z
LAST-MODIFIED:20251230T125516Z
UID:5145-1696982400-1697068799@naptongolfsociety.co.uk
SUMMARY:Stoneleigh (was Nuneaton) - Vice Captains Trophy - FHSF - 10.44am
DESCRIPTION:
URL:https://naptongolfsociety.co.uk/event/stoneleigh-was-nuneaton-vice-captains-trophy-fhsf-10-44am/
LOCATION:Stoneleigh Deer Park\, The Old Deer Park Coventry Road\, Stoneleigh\, Warwickshire\, CV8 3DR\, United Kingdom
CATEGORIES:Outing
END:VEVENT
END:VCALENDAR