BEGIN:VCALENDAR
VERSION:2.0
PRODID:-//Napton Golf Society - ECPv6.15.20//NONSGML v1.0//EN
CALSCALE:GREGORIAN
METHOD:PUBLISH
X-WR-CALNAME:Napton Golf Society
X-ORIGINAL-URL:https://naptongolfsociety.co.uk
X-WR-CALDESC:Events for Napton Golf Society
REFRESH-INTERVAL;VALUE=DURATION:PT1H
X-Robots-Tag:noindex
X-PUBLISHED-TTL:PT1H
BEGIN:VTIMEZONE
TZID:Europe/London
BEGIN:DAYLIGHT
TZOFFSETFROM:+0000
TZOFFSETTO:+0100
TZNAME:BST
DTSTART:20230326T010000
END:DAYLIGHT
BEGIN:STANDARD
TZOFFSETFROM:+0100
TZOFFSETTO:+0000
TZNAME:GMT
DTSTART:20231029T010000
END:STANDARD
BEGIN:DAYLIGHT
TZOFFSETFROM:+0000
TZOFFSETTO:+0100
TZNAME:BST
DTSTART:20240331T010000
END:DAYLIGHT
BEGIN:STANDARD
TZOFFSETFROM:+0100
TZOFFSETTO:+0000
TZNAME:GMT
DTSTART:20241027T010000
END:STANDARD
BEGIN:DAYLIGHT
TZOFFSETFROM:+0000
TZOFFSETTO:+0100
TZNAME:BST
DTSTART:20250330T010000
END:DAYLIGHT
BEGIN:STANDARD
TZOFFSETFROM:+0100
TZOFFSETTO:+0000
TZNAME:GMT
DTSTART:20251026T010000
END:STANDARD
END:VTIMEZONE
BEGIN:VEVENT
DTSTART;TZID=Europe/London:20240605T000000
DTEND;TZID=Europe/London:20240605T235959
DTSTAMP:20260419T200155
CREATED:20231229T125732Z
LAST-MODIFIED:20251230T125448Z
UID:5212-1717545600-1717631999@naptongolfsociety.co.uk
SUMMARY:Leamington - Texas Scramble	- 11:00am
DESCRIPTION:
URL:https://naptongolfsociety.co.uk/event/leamington-texas-scramble-1100am/
LOCATION:Leamington & County\, Golf Lane\, Whitnash\, Warwickshire\, CV31 2QA\, United Kingdom
CATEGORIES:Outing
END:VEVENT
BEGIN:VEVENT
DTSTART;TZID=Europe/London:20240622T000000
DTEND;TZID=Europe/London:20240622T235959
DTSTAMP:20260419T200155
CREATED:20231229T130045Z
LAST-MODIFIED:20251230T125448Z
UID:5215-1719014400-1719100799@naptongolfsociety.co.uk
SUMMARY:Greetham Valley - Roger Nicholls 30th Anniversary Trophy
DESCRIPTION:
URL:https://naptongolfsociety.co.uk/event/greetham-valley-roger-nicholls-30th-anniversary-trophy/
LOCATION:Greetham Valley\, Wood Ln\, Greetham\, Oakham\, LE15 7SN\, United Kingdom
CATEGORIES:Outing
END:VEVENT
BEGIN:VEVENT
DTSTART;TZID=Europe/London:20240623T000000
DTEND;TZID=Europe/London:20240623T235959
DTSTAMP:20260419T200155
CREATED:20231229T130203Z
LAST-MODIFIED:20251230T125448Z
UID:5219-1719100800-1719187199@naptongolfsociety.co.uk
SUMMARY:Greetham Valley - Teng Tools/ Seniors Trophy
DESCRIPTION:
URL:https://naptongolfsociety.co.uk/event/greetham-valley-teng-tools-seniors-trophy/
LOCATION:Greetham Valley\, Wood Ln\, Greetham\, Oakham\, LE15 7SN\, United Kingdom
CATEGORIES:Outing
END:VEVENT
BEGIN:VEVENT
DTSTART;TZID=Europe/London:20240624T000000
DTEND;TZID=Europe/London:20240624T235959
DTSTAMP:20260419T200155
CREATED:20231229T130317Z
LAST-MODIFIED:20251230T125448Z
UID:5222-1719187200-1719273599@naptongolfsociety.co.uk
SUMMARY:Greetham Valley - Chairman’s Shield/ 10th Anniversary
DESCRIPTION:
URL:https://naptongolfsociety.co.uk/event/greetham-valley-chairmans-shield-10th-anniversary/
LOCATION:Greetham Valley\, Wood Ln\, Greetham\, Oakham\, LE15 7SN\, United Kingdom
CATEGORIES:Outing
END:VEVENT
END:VCALENDAR