BEGIN:VCALENDAR
VERSION:2.0
PRODID:-//Napton Golf Society - ECPv6.15.20//NONSGML v1.0//EN
CALSCALE:GREGORIAN
METHOD:PUBLISH
X-WR-CALNAME:Napton Golf Society
X-ORIGINAL-URL:https://naptongolfsociety.co.uk
X-WR-CALDESC:Events for Napton Golf Society
REFRESH-INTERVAL;VALUE=DURATION:PT1H
X-Robots-Tag:noindex
X-PUBLISHED-TTL:PT1H
BEGIN:VTIMEZONE
TZID:Europe/London
BEGIN:DAYLIGHT
TZOFFSETFROM:+0000
TZOFFSETTO:+0100
TZNAME:BST
DTSTART:20220327T010000
END:DAYLIGHT
BEGIN:STANDARD
TZOFFSETFROM:+0100
TZOFFSETTO:+0000
TZNAME:GMT
DTSTART:20221030T010000
END:STANDARD
BEGIN:DAYLIGHT
TZOFFSETFROM:+0000
TZOFFSETTO:+0100
TZNAME:BST
DTSTART:20230326T010000
END:DAYLIGHT
BEGIN:STANDARD
TZOFFSETFROM:+0100
TZOFFSETTO:+0000
TZNAME:GMT
DTSTART:20231029T010000
END:STANDARD
BEGIN:DAYLIGHT
TZOFFSETFROM:+0000
TZOFFSETTO:+0100
TZNAME:BST
DTSTART:20240331T010000
END:DAYLIGHT
BEGIN:STANDARD
TZOFFSETFROM:+0100
TZOFFSETTO:+0000
TZNAME:GMT
DTSTART:20241027T010000
END:STANDARD
END:VTIMEZONE
BEGIN:VEVENT
DTSTART;TZID=Europe/London:20231116T000000
DTEND;TZID=Europe/London:20231116T235959
DTSTAMP:20260420T071134
CREATED:20231025T162901Z
LAST-MODIFIED:20231025T162921Z
UID:5161-1700092800-1700179199@naptongolfsociety.co.uk
SUMMARY:Buck & Bell - 2023 AGM
DESCRIPTION:
URL:https://naptongolfsociety.co.uk/event/buck-bell-2023-agm/
LOCATION:Buck & Bell\, Buck & Bell\, Green End\, Long Itchington\, Southam\, Warks\, CV47 9PH\, United Kingdom
END:VEVENT
END:VCALENDAR